BEGIN:VCALENDAR
VERSION:2.0
PRODID:-//norwood-payneham-st-peters//NONSGML events.npsp.sa.gov.au//EN
METHOD:PUBLISH
CALSCALE:GREGORIAN
BEGIN:VEVENT
UID:event2175@events.npsp.sa.gov.au
DTSTART:20260424T203000Z
DTEND:20260424T213000Z
SUMMARY:ANZAC Day Dawn Services
STATUS:CONFIRMED
SEQUENCE:0
TRANSP:OPAQUE
DTSTAMP:20260417T025715Z
LOCATION:City of Norwood Payneham & St Peters
URL:https://www.npsp.sa.gov.au/events/2175_anzac_day_dawn_services
END:VEVENT
END:VCALENDAR
