BEGIN:VCALENDAR
VERSION:2.0
PRODID:-//norwood-payneham-st-peters//NONSGML events.npsp.sa.gov.au//EN
METHOD:PUBLISH
CALSCALE:GREGORIAN
BEGIN:VEVENT
UID:event3409@events.npsp.sa.gov.au
DTSTART:20260528T010000Z
DTEND:20260528T023000Z
SUMMARY:Android Phones - Beginners Guide
STATUS:CONFIRMED
SEQUENCE:0
TRANSP:OPAQUE
DTSTAMP:20260421T005006Z
LOCATION:St Peters Library
URL:https://www.npsp.sa.gov.au/events/3409_android_phones__beginners_guide
END:VEVENT
END:VCALENDAR
