BEGIN:VCALENDAR
VERSION:2.0
PRODID:-//norwood-payneham-st-peters//NONSGML events.npsp.sa.gov.au//EN
METHOD:PUBLISH
CALSCALE:GREGORIAN
BEGIN:VEVENT
UID:event3461@events.npsp.sa.gov.au
DTSTART:20260430T003000Z
DTEND:20260510T050000Z
SUMMARY:The Evolution of Seeing
STATUS:CONFIRMED
SEQUENCE:0
TRANSP:OPAQUE
DTSTAMP:20260416T011859Z
LOCATION:55 Rundle Street, Kent Town
URL:https://www.npsp.sa.gov.au/events/3461_the_evolution_of_seeing
END:VEVENT
END:VCALENDAR
