BEGIN:VCALENDAR
VERSION:2.0
PRODID:-//norwood-payneham-st-peters//NONSGML events.npsp.sa.gov.au//EN
METHOD:PUBLISH
CALSCALE:GREGORIAN
BEGIN:VEVENT
UID:event3464@events.npsp.sa.gov.au
DTSTART:20260523T093000Z
DTEND:20260523T141500Z
SUMMARY:A retro night for Norwood locals
STATUS:CONFIRMED
SEQUENCE:0
TRANSP:OPAQUE
DTSTAMP:20260417T072455Z
LOCATION:Osmond Terrace Function Centre, Norwood Hotel, 97 The Paraden, Norwood
URL:https://www.npsp.sa.gov.au/events/3464_a_retro_night_for_norwood_locals
END:VEVENT
END:VCALENDAR
