BEGIN:VCALENDAR
VERSION:2.0
PRODID:-//norwood-payneham-st-peters//NONSGML events.npsp.sa.gov.au//EN
METHOD:PUBLISH
CALSCALE:GREGORIAN
BEGIN:VEVENT
UID:event3465@events.npsp.sa.gov.au
DTSTART:20260524T100000Z
DTEND:20260524T120000Z
SUMMARY:SunSLAY Musical May
STATUS:CONFIRMED
SEQUENCE:0
TRANSP:OPAQUE
DTSTAMP:20260420T010037Z
LOCATION:Norwood Live - 97 The Parade, Norwood
URL:https://www.npsp.sa.gov.au/events/3465_sunslay_musical_may
END:VEVENT
END:VCALENDAR
