BEGIN:VCALENDAR
VERSION:2.0
PRODID:-//norwood-payneham-st-peters//NONSGML events.npsp.sa.gov.au//EN
METHOD:PUBLISH
CALSCALE:GREGORIAN
BEGIN:VEVENT
UID:event3469@events.npsp.sa.gov.au
DTSTART:20260527T013000Z
DTEND:20260527T030000Z
SUMMARY:AI in Action: Hands - On with the Latest Platforms
STATUS:CONFIRMED
SEQUENCE:0
TRANSP:OPAQUE
DTSTAMP:20260424T063745Z
LOCATION:St Peters Library
URL:https://www.npsp.sa.gov.au/events/3469_ai_in_action_hands__on_with_the_latest_platforms
END:VEVENT
END:VCALENDAR
